BEGIN:VCALENDAR
PRODID:-//AT Content Types//AT Event//EN
VERSION:1.0
BEGIN:VEVENT
DTSTART:20200610T080000Z
DTEND:20200610T080000Z
DCREATED:20190826T105658Z
UID:ATEvent-b282e64ffa7843aa82fe339799b6344e
SEQUENCE:0
LAST-MODIFIED:20190826T105701Z
SUMMARY:P1 induction and meet the teacher
DESCRIPTION:P1 induction and meet the teacher
PRIORITY:3
TRANSP:0
END:VEVENT
END:VCALENDAR
