BEGIN:VCALENDAR
PRODID:-//AT Content Types//AT Event//EN
VERSION:1.0
BEGIN:VEVENT
DTSTART:20191210T141500Z
DTEND:20191210T150000Z
DCREATED:20190824T191447Z
UID:ATEvent-abcb6e96fd594a5c9b71b0eeb2029f5a
SEQUENCE:0
LAST-MODIFIED:20190824T191450Z
SUMMARY:P1 Christmas Show
DESCRIPTION:P1 Christmas Show
PRIORITY:3
TRANSP:0
END:VEVENT
END:VCALENDAR
