BEGIN:VCALENDAR
PRODID:-//AT Content Types//AT Event//EN
VERSION:1.0
BEGIN:VEVENT
DTSTART:20191209T141500Z
DTEND:20191209T150000Z
DCREATED:20190824T191328Z
UID:ATEvent-a08368a6bf4c48f3bd5c3eafd1d9c474
SEQUENCE:0
LAST-MODIFIED:20190824T191333Z
SUMMARY:P1 Christmas Show Rehearsal for the community
DESCRIPTION:P1 Christmas Show Rehearsal for the community
PRIORITY:3
TRANSP:0
END:VEVENT
END:VCALENDAR
