BEGIN:VCALENDAR
PRODID:-//AT Content Types//AT Event//EN
VERSION:1.0
BEGIN:VEVENT
DTSTART:20191211T141500Z
DTEND:20191211T150000Z
DCREATED:20190824T191911Z
UID:ATEvent-a896091f5e2a4a3ba9b631902c83bedd
SEQUENCE:0
LAST-MODIFIED:20190824T191924Z
SUMMARY:P1 Christmas Show
DESCRIPTION:P1 Christmas Show
PRIORITY:3
TRANSP:0
END:VEVENT
END:VCALENDAR
