BEGIN:VCALENDAR
PRODID:-//AT Content Types//AT Event//EN
VERSION:2.0
METHOD:PUBLISH
BEGIN:VEVENT
DTSTAMP:20260419T190055Z
CREATED:20190521T095659Z
UID:ATEvent-19dbf1c6e7d7429dbc22ac2ca57dfc41
LAST-MODIFIED:20190524T081146Z
SUMMARY:P1-3 Sports Day
DTSTART:20190524T093000Z
DTEND:20190524T104500Z
DESCRIPTION:P1-3 Sports Day
LOCATION:Gillies Park
CLASS:PUBLIC
END:VEVENT
END:VCALENDAR
