BEGIN:VCALENDAR
PRODID:-//AT Content Types//AT Event//EN
VERSION:2.0
METHOD:PUBLISH
BEGIN:VEVENT
DTSTAMP:20260419T185759Z
CREATED:20190823T203248Z
UID:ATEvent-19a38074b20849f38419c1b944679edc
LAST-MODIFIED:20190823T203253Z
SUMMARY:P1-3 Halloween Disco
DTSTART:20191025T124500Z
DTEND:20191025T134500Z
DESCRIPTION:P1-3 Halloween Disco
CLASS:PUBLIC
END:VEVENT
END:VCALENDAR
