BEGIN:VCALENDAR
PRODID:-//AT Content Types//AT Event//EN
VERSION:2.0
METHOD:PUBLISH
BEGIN:VEVENT
DTSTAMP:20260419T185759Z
CREATED:20190823T202507Z
UID:ATEvent-dc53fc4a5f9246a2a0a29f2d6343444b
LAST-MODIFIED:20190823T202512Z
SUMMARY:October Holiday begins
DTSTART:20191007T080000Z
DTEND:20191007T080000Z
DESCRIPTION:October Holiday begins
CLASS:PUBLIC
END:VEVENT
END:VCALENDAR
