BEGIN:VCALENDAR
PRODID:-//AT Content Types//AT Event//EN
VERSION:1.0
BEGIN:VEVENT
DTSTART:20200617T080000Z
DTEND:20200617T080000Z
DCREATED:20190826T105740Z
UID:ATEvent-a13300d69a234cdca1a76937f0d2be34
SEQUENCE:0
LAST-MODIFIED:20190826T105743Z
SUMMARY:Nursery sports
DESCRIPTION:Nursery sports
PRIORITY:3
TRANSP:0
END:VEVENT
END:VCALENDAR
