BEGIN:VCALENDAR
PRODID:-//AT Content Types//AT Event//EN
VERSION:1.0
BEGIN:VEVENT
DTSTART:20181219T141500Z
DTEND:20181219T144500Z
DCREATED:20181029T204622Z
UID:ATEvent-b4b826debcb7488287f1d68bc2ec08c6
SEQUENCE:0
LAST-MODIFIED:20181204T123259Z
SUMMARY:Nursery Nativity (PM)
DESCRIPTION:Nursery Nativity (PM)
PRIORITY:3
TRANSP:0
END:VEVENT
END:VCALENDAR
