BEGIN:VCALENDAR
PRODID:-//AT Content Types//AT Event//EN
VERSION:2.0
METHOD:PUBLISH
BEGIN:VEVENT
DTSTAMP:20260419T185912Z
CREATED:20181029T204513Z
UID:ATEvent-d8b0dfcb87494de9b47a5733c217779d
LAST-MODIFIED:20181029T204517Z
SUMMARY:Nursery Nativity (AM)
DTSTART:20181219T103000Z
DTEND:20181219T110000Z
DESCRIPTION:Nursery Nativity (AM)
LOCATION:School
CLASS:PUBLIC
END:VEVENT
END:VCALENDAR
