BEGIN:VCALENDAR
PRODID:-//AT Content Types//AT Event//EN
VERSION:1.0
BEGIN:VEVENT
DTSTART:20191218T090000Z
DTEND:20191218T090000Z
DCREATED:20190824T192147Z
UID:ATEvent-c93c24dd6d954da38842289cc93052ef
SEQUENCE:0
LAST-MODIFIED:20190824T193753Z
SUMMARY:Nursery Nativity AM and PM
DESCRIPTION:Nursery Nativity AM and PM
PRIORITY:3
TRANSP:0
END:VEVENT
END:VCALENDAR
