BEGIN:VCALENDAR
PRODID:-//AT Content Types//AT Event//EN
VERSION:1.0
BEGIN:VEVENT
DTSTART:20190621T080000Z
DTEND:20190621T140000Z
DCREATED:20181030T100412Z
UID:ATEvent-de1e09a14e3647ffa034f7af082619dd
SEQUENCE:0
LAST-MODIFIED:20181030T100415Z
SUMMARY:Nursery Moving On Celebration
DESCRIPTION:Nursery Moving On Celebration
LOCATION:New Hall
PRIORITY:3
TRANSP:0
END:VEVENT
END:VCALENDAR
