BEGIN:VCALENDAR
PRODID:-//AT Content Types//AT Event//EN
VERSION:1.0
BEGIN:VEVENT
DTSTART:20200619T080000Z
DTEND:20200619T080000Z
DCREATED:20190826T110708Z
UID:ATEvent-6c8a2d60467441bfa5ae17b823261eb0
SEQUENCE:0
LAST-MODIFIED:20190826T110711Z
SUMMARY:Nursery Moving on celebration. Times tbc
DESCRIPTION:Nursery Moving on celebration. Times tbc
PRIORITY:3
TRANSP:0
END:VEVENT
END:VCALENDAR
