BEGIN:VCALENDAR
PRODID:-//AT Content Types//AT Event//EN
VERSION:1.0
BEGIN:VEVENT
DTSTART:20200605T080000Z
DTEND:20200605T080000Z
DCREATED:20190826T105400Z
UID:ATEvent-28df7ad3fb7645e8a4aacf3b0c5eec48
SEQUENCE:0
LAST-MODIFIED:20190826T105403Z
SUMMARY:Non-uniform for Party in Playground chocolate/bottle donations
DESCRIPTION:Non-uniform for Party in Playground chocolate/bottle donat
 ions
PRIORITY:3
TRANSP:0
END:VEVENT
END:VCALENDAR
