BEGIN:VCALENDAR
PRODID:-//AT Content Types//AT Event//EN
VERSION:2.0
METHOD:PUBLISH
BEGIN:VEVENT
DTSTAMP:20260419T190121Z
CREATED:20181030T095711Z
UID:ATEvent-be667dbc5a244886a0775caa44944d81
LAST-MODIFIED:20181030T095717Z
SUMMARY:Non Uniform Day for Summer BBQ donations
DTSTART:20190531T080000Z
DTEND:20190531T140000Z
DESCRIPTION:Non Uniform Day for Summer BBQ donations
CLASS:PUBLIC
END:VEVENT
END:VCALENDAR
