BEGIN:VCALENDAR
PRODID:-//AT Content Types//AT Event//EN
VERSION:2.0
METHOD:PUBLISH
BEGIN:VEVENT
DTSTAMP:20260419T185830Z
CREATED:20181029T203141Z
UID:ATEvent-47e1c0516ba04bcf9a42739d9532aec8
LAST-MODIFIED:20181029T203146Z
SUMMARY:Non-uniform day for Bazaar donations
DTSTART:20181130T090000Z
DTEND:20181130T151500Z
DESCRIPTION:Non-uniform day
CLASS:PUBLIC
END:VEVENT
END:VCALENDAR
