BEGIN:VCALENDAR
PRODID:-//AT Content Types//AT Event//EN
VERSION:1.0
BEGIN:VEVENT
DTSTART:20191129T090000Z
DTEND:20191129T090000Z
DCREATED:20190824T190857Z
UID:ATEvent-371871b021154a748deacb270a52ab95
SEQUENCE:0
LAST-MODIFIED:20190824T190901Z
SUMMARY:Non-uniform day for Bazaar Donations (chocolate/bottle)
DESCRIPTION:Non-uniform day for Bazaar Donations (chocolate/bottle)
PRIORITY:3
TRANSP:0
END:VEVENT
END:VCALENDAR
