BEGIN:VCALENDAR
PRODID:-//AT Content Types//AT Event//EN
VERSION:1.0
BEGIN:VEVENT
DTSTART:20181210T141500Z
DTEND:20181210T150000Z
DCREATED:20181029T203624Z
UID:ATEvent-78649390d1644c9f8afe43a48706e88c
SEQUENCE:0
LAST-MODIFIED:20181029T203629Z
SUMMARY:Nativity Community Dress Rehearsal
DESCRIPTION:Nativity Community Dress Rehearsal
LOCATION:School
PRIORITY:3
TRANSP:0
END:VEVENT
END:VCALENDAR
