BEGIN:VCALENDAR
PRODID:-//AT Content Types//AT Event//EN
VERSION:2.0
METHOD:PUBLISH
BEGIN:VEVENT
DTSTAMP:20260419T190055Z
CREATED:20150602T082333Z
UID:ATEvent-8a728ddc81774062a8abc5c83f05c7df
LAST-MODIFIED:20150602T082339Z
SUMMARY:National Hockey Finals\, Glasgow
DTSTART:20150604T062500Z
DTEND:20150604T142500Z
DESCRIPTION:National Hockey Finals,
LOCATION:Commonwealth Stadium\, Glasgow
CLASS:PUBLIC
END:VEVENT
END:VCALENDAR
