BEGIN:VCALENDAR
PRODID:-//AT Content Types//AT Event//EN
VERSION:1.0
BEGIN:VEVENT
DTSTART:20190215T090000Z
DTEND:20190215T151500Z
DCREATED:20181030T085855Z
UID:ATEvent-6bf9516208c04515b54f2ff7d764d701
SEQUENCE:0
LAST-MODIFIED:20181030T100753Z
SUMMARY:Mid Term Holiday
DESCRIPTION:Mid Term Holiday
PRIORITY:3
TRANSP:0
END:VEVENT
END:VCALENDAR
