BEGIN:VCALENDAR
PRODID:-//AT Content Types//AT Event//EN
VERSION:1.0
BEGIN:VEVENT
DTSTART:20200217T090000Z
DTEND:20200217T151500Z
DCREATED:20190824T195447Z
UID:ATEvent-2680a927db2e46b1b4a2b53ce5a3850f
SEQUENCE:0
LAST-MODIFIED:20190824T195452Z
SUMMARY:Mid-term holiday
DESCRIPTION:Mid-term holiday
PRIORITY:3
TRANSP:0
END:VEVENT
END:VCALENDAR
