BEGIN:VCALENDAR
PRODID:-//AT Content Types//AT Event//EN
VERSION:1.0
BEGIN:VEVENT
DTSTART:20190218T090000Z
DTEND:20190218T150000Z
DCREATED:20181030T100856Z
UID:ATEvent-90820fdeca7249c1b024647d1f405751
SEQUENCE:0
LAST-MODIFIED:20181030T101013Z
SUMMARY:Mid Term holiday
DESCRIPTION:Mid Term holiday
PRIORITY:3
TRANSP:0
END:VEVENT
END:VCALENDAR
