BEGIN:VCALENDAR
PRODID:-//AT Content Types//AT Event//EN
VERSION:1.0
BEGIN:VEVENT
DTSTART:20150504T080000Z
DTEND:20150504T141500Z
DCREATED:20150501T140705Z
UID:ATEvent-45f989b6c92546cdb6db9bafdb9664a6
SEQUENCE:0
LAST-MODIFIED:20150501T140753Z
SUMMARY:May Day Holiday
DESCRIPTION:May Day Holiday - school closed to pupils
PRIORITY:3
TRANSP:0
END:VEVENT
END:VCALENDAR
