BEGIN:VCALENDAR
PRODID:-//AT Content Types//AT Event//EN
VERSION:1.0
BEGIN:VEVENT
DTSTART:20200508T080000Z
DTEND:20200508T080000Z
DCREATED:20190826T104504Z
UID:ATEvent-40fff631a0dd4d06b85ddc8bda48b673
SEQUENCE:0
LAST-MODIFIED:20200218T144326Z
SUMMARY:May Day Holiday: School closed to all
DESCRIPTION:May Day Holiday: School closed to all
PRIORITY:3
TRANSP:0
END:VEVENT
END:VCALENDAR
