BEGIN:VCALENDAR
PRODID:-//AT Content Types//AT Event//EN
VERSION:1.0
BEGIN:VEVENT
DTSTART:20200522T080000Z
DTEND:20200522T080000Z
DCREATED:20190826T105019Z
UID:ATEvent-c46d5400b7844c299641264782bfde7f
SEQUENCE:0
LAST-MODIFIED:20190826T105022Z
SUMMARY:Inset Day 7 - School closed to pupils
DESCRIPTION:Inset Day 7 - School closed to pupils
PRIORITY:3
TRANSP:0
END:VEVENT
END:VCALENDAR
