BEGIN:VCALENDAR
PRODID:-//AT Content Types//AT Event//EN
VERSION:1.0
BEGIN:VEVENT
DTSTART:20200218T090000Z
DTEND:20200218T151500Z
DCREATED:20190824T195726Z
UID:ATEvent-789166da9bd847f4b616ef4b1e5591bb
SEQUENCE:0
LAST-MODIFIED:20190824T195734Z
SUMMARY:Inset Day 5 - School Closed to pupils
DESCRIPTION:Inset Day 5 - School Closed to pupils
PRIORITY:3
TRANSP:0
END:VEVENT
END:VCALENDAR
