BEGIN:VCALENDAR
PRODID:-//AT Content Types//AT Event//EN
VERSION:1.0
BEGIN:VEVENT
DTSTART:20191115T090000Z
DTEND:20191115T151500Z
DCREATED:20190823T204433Z
UID:ATEvent-4d53740b8cb04f31af125b85778d0308
SEQUENCE:0
LAST-MODIFIED:20190823T204438Z
SUMMARY:Inset Day 4 - School Closed to pupils
DESCRIPTION:Inset Day 4 - School Closed to pupils
PRIORITY:3
TRANSP:0
END:VEVENT
END:VCALENDAR
