BEGIN:VCALENDAR
PRODID:-//AT Content Types//AT Event//EN
VERSION:1.0
BEGIN:VEVENT
DTSTART:20191004T080000Z
DTEND:20191004T140000Z
DCREATED:20190820T153844Z
UID:ATEvent-edd88fe5f50a4ac59ec45097e437b4ac
SEQUENCE:0
LAST-MODIFIED:20190820T153847Z
SUMMARY:Inset Day 2 - School Closed to pupils
DESCRIPTION:Inset Day 2 - School Closed to pupils
PRIORITY:3
TRANSP:0
END:VEVENT
END:VCALENDAR
