BEGIN:VCALENDAR
PRODID:-//AT Content Types//AT Event//EN
VERSION:1.0
BEGIN:VEVENT
DTSTART:20190812T080000Z
DTEND:20190812T141500Z
DCREATED:20190626T112459Z
UID:ATEvent-64ec28e6276042d092abc2cc723f041b
SEQUENCE:0
LAST-MODIFIED:20190626T112503Z
SUMMARY:Inset Day 1  School closed to pupils
DESCRIPTION:Inset Day 1
PRIORITY:3
TRANSP:0
END:VEVENT
END:VCALENDAR
