BEGIN:VCALENDAR
PRODID:-//AT Content Types//AT Event//EN
VERSION:2.0
METHOD:PUBLISH
BEGIN:VEVENT
DTSTAMP:20260423T182132Z
CREATED:20150318T095307Z
UID:ATEvent-f7892b7387804cf2867de46d8e911dd7
LAST-MODIFIED:20150318T095316Z
SUMMARY:Hockey Tournament
DTSTART:20150325T160000Z
DTEND:20150325T174500Z
DESCRIPTION:Hockey Tournament
LOCATION:DISC
CLASS:PUBLIC
END:VEVENT
END:VCALENDAR
