BEGIN:VCALENDAR
PRODID:-//AT Content Types//AT Event//EN
VERSION:2.0
METHOD:PUBLISH
BEGIN:VEVENT
DTSTAMP:20260419T190034Z
CREATED:20150501T141224Z
UID:ATEvent-9f50bf23a1e847c5af738a941f1832c8
LAST-MODIFIED:20150501T141229Z
SUMMARY:Hockey regional Finals
DTSTART:20150514T150000Z
DTEND:20150514T163000Z
DESCRIPTION:Hockey regional Finals
LOCATION:Riverside
CLASS:PUBLIC
END:VEVENT
END:VCALENDAR
