BEGIN:VCALENDAR
PRODID:-//AT Content Types//AT Event//EN
VERSION:2.0
METHOD:PUBLISH
BEGIN:VEVENT
DTSTAMP:20260419T190034Z
CREATED:20181030T095339Z
UID:ATEvent-129202989c6142a4ae5536e26d62f167
LAST-MODIFIED:20181030T095348Z
SUMMARY:Health Week 20th-24th May
DTSTART:20190520T080000Z
DTEND:20190520T141500Z
DESCRIPTION:Health Week 20th-24th May
CLASS:PUBLIC
END:VEVENT
END:VCALENDAR
