BEGIN:VCALENDAR
PRODID:-//AT Content Types//AT Event//EN
VERSION:2.0
METHOD:PUBLISH
BEGIN:VEVENT
DTSTAMP:20260419T185805Z
CREATED:20180612T072800Z
UID:ATEvent-d110eb508f01458e84bf344f9e212c3d
LAST-MODIFIED:20180612T072804Z
SUMMARY:Football Final
DTSTART:20180613T173000Z
DTEND:20180613T183000Z
DESCRIPTION:Football Final
CLASS:PUBLIC
END:VEVENT
END:VCALENDAR
