BEGIN:VCALENDAR
PRODID:-//AT Content Types//AT Event//EN
VERSION:1.0
BEGIN:VEVENT
DTSTART:20200626T110000Z
DTEND:20200626T110000Z
DCREATED:20190826T110946Z
UID:ATEvent-cc587fa7519b47f2b47af4a4de9fb635
SEQUENCE:0
LAST-MODIFIED:20190826T110949Z
SUMMARY:End of session. School closes 12 noon
DESCRIPTION:End of session. School closes 12 noon
PRIORITY:3
TRANSP:0
END:VEVENT
END:VCALENDAR
