BEGIN:VCALENDAR
PRODID:-//AT Content Types//AT Event//EN
VERSION:2.0
METHOD:PUBLISH
BEGIN:VEVENT
DTSTAMP:20260419T190217Z
CREATED:20150501T140933Z
UID:ATEvent-5ec8c3a7a6764bc5b531b94654716f11
LAST-MODIFIED:20150501T140945Z
SUMMARY:Election Day - school closed to pupils
DTSTART:20150507T080000Z
DTEND:20150507T141500Z
DESCRIPTION:Election Day - school closed to pupils
CLASS:PUBLIC
END:VEVENT
END:VCALENDAR
