BEGIN:VCALENDAR
PRODID:-//AT Content Types//AT Event//EN
VERSION:1.0
BEGIN:VEVENT
DTSTART:20191212T090000Z
DTEND:20191212T151500Z
DCREATED:20191113T155452Z
UID:ATEvent-aacfb07303d740f49257f3831b0a40ec
SEQUENCE:0
LAST-MODIFIED:20191113T155455Z
SUMMARY:Election Day - School Closed to pupils
DESCRIPTION:Election Day - School Closed to pupils
PRIORITY:3
TRANSP:0
END:VEVENT
END:VCALENDAR
