BEGIN:VCALENDAR
PRODID:-//AT Content Types//AT Event//EN
VERSION:2.0
METHOD:PUBLISH
BEGIN:VEVENT
DTSTAMP:20260419T190342Z
CREATED:20181030T091409Z
UID:ATEvent-1eabd75cd1fb4b408968f02605d7f835
LAST-MODIFIED:20190326T165254Z
SUMMARY:Church Service at Barnhill St Margaret’s "A" Classes\, P4/5\, P2/3 & P6B 9.50. "B" Classes\, P4/5 P1C and P6/7\, 11am
DTSTART:20190327T095000Z
DTEND:20190327T113000Z
DESCRIPTION:Church Service at Barnhill St Margaret’s "A" Classes\, P
 4/5\, P2/3 & P6B at 9.50. "B" Classes\, P4/5 P1C and P6/7\, 11am
LOCATION:Barnhill St. Margaret's
CLASS:PUBLIC
END:VEVENT
END:VCALENDAR
