BEGIN:VCALENDAR
PRODID:-//AT Content Types//AT Event//EN
VERSION:2.0
METHOD:PUBLISH
BEGIN:VEVENT
DTSTAMP:20260419T190106Z
CREATED:20191113T155553Z
UID:ATEvent-dc65051a55d2464b8d6c33f5623851d3
LAST-MODIFIED:20191113T155555Z
SUMMARY:Danceathon - details to follow.
DTSTART:20191206T090000Z
DTEND:20191206T151500Z
DESCRIPTION:Danceathon - details to follow.
CLASS:PUBLIC
END:VEVENT
END:VCALENDAR
