BEGIN:VCALENDAR
PRODID:-//AT Content Types//AT Event//EN
VERSION:1.0
BEGIN:VEVENT
DTSTART:20191219T110000Z
DTEND:20191219T114000Z
DCREATED:20190824T192746Z
UID:ATEvent-434bc485f6ca4f1ba2e2b0a750985689
SEQUENCE:0
LAST-MODIFIED:20190824T193850Z
SUMMARY:Christmas Service at Barnhill St Margaret's. P1-3: 11am
DESCRIPTION:Christmas Service at Barnhill St Margaret's. P1-3: 11am
PRIORITY:3
TRANSP:0
END:VEVENT
END:VCALENDAR
