BEGIN:VCALENDAR
PRODID:-//AT Content Types//AT Event//EN
VERSION:2.0
METHOD:PUBLISH
BEGIN:VEVENT
DTSTAMP:20260419T185932Z
CREATED:20181029T204221Z
UID:ATEvent-2320a54f7bc64890a51d89cb38771053
LAST-MODIFIED:20181029T204228Z
SUMMARY:Christmas Jumper Day (optional)
DTSTART:20181214T090000Z
DTEND:20181214T151500Z
DESCRIPTION:Christmas Jumper Day (optional)
LOCATION:School
CLASS:PUBLIC
END:VEVENT
END:VCALENDAR
