BEGIN:VCALENDAR
PRODID:-//AT Content Types//AT Event//EN
VERSION:2.0
METHOD:PUBLISH
BEGIN:VEVENT
DTSTAMP:20260419T190342Z
CREATED:20181029T204856Z
UID:ATEvent-94ddecc9b7f44b9e95af43fbb5a27c32
LAST-MODIFIED:20181029T204904Z
SUMMARY:Christmas Church Service at Barnhill St Margaret’s P4-7 9.50am\, P1-3 11am
DTSTART:20181219T095000Z
DTEND:20181219T113000Z
DESCRIPTION:Christmas Church Service at Barnhill St Margaret’s P4-7 
 9.50am\, P1-3 11am
LOCATION:Barnhill St Margaret's
CLASS:PUBLIC
END:VEVENT
END:VCALENDAR
