BEGIN:VCALENDAR
PRODID:-//AT Content Types//AT Event//EN
VERSION:2.0
METHOD:PUBLISH
BEGIN:VEVENT
DTSTAMP:20260419T134422Z
CREATED:20141204T135052Z
UID:ATEvent-23e1af23f7a74d59819c547bcb6effd9
LAST-MODIFIED:20141204T135105Z
SUMMARY:Christmas Carol Family service at Barnhill St Margaret’s
DTSTART:20141215T180000Z
DTEND:20141215T190000Z
DESCRIPTION:Christmas Carol Family service at Barnhill St Margaret’s
 
LOCATION:Barnhill St Margaret’s
CLASS:PUBLIC
END:VEVENT
END:VCALENDAR
