BEGIN:VCALENDAR
PRODID:-//AT Content Types//AT Event//EN
VERSION:1.0
BEGIN:VEVENT
DTSTART:20191130T100000Z
DTEND:20191130T120000Z
DCREATED:20190824T191122Z
UID:ATEvent-737ea4cdb02746e98fa98149857d3d39
SEQUENCE:0
LAST-MODIFIED:20190824T191126Z
SUMMARY:Christmas Bazaar 10am - 12noon
DESCRIPTION:Christmas Bazaar 10am - 12noon
PRIORITY:3
TRANSP:0
END:VEVENT
END:VCALENDAR
