BEGIN:VCALENDAR
PRODID:-//AT Content Types//AT Event//EN
VERSION:1.0
BEGIN:VEVENT
DTSTART:20190311T090000Z
DTEND:20190315T151500Z
DCREATED:20181030T090104Z
UID:ATEvent-11f9cc134f8e4d6cb3a2ab666c68ce4f
SEQUENCE:0
LAST-MODIFIED:20181030T090107Z
SUMMARY:Careers Week
DESCRIPTION:Careers Week
LOCATION:School
PRIORITY:3
TRANSP:0
END:VEVENT
END:VCALENDAR
