BEGIN:VCALENDAR
PRODID:-//AT Content Types//AT Event//EN
VERSION:2.0
METHOD:PUBLISH
BEGIN:VEVENT
DTSTAMP:20260419T190121Z
CREATED:20190920T104614Z
UID:ATEvent-eaf8601ed83449a5952d88a703384069
LAST-MODIFIED:20190920T104616Z
SUMMARY:Angus Netball Tournament
DTSTART:20200225T093000Z
DTEND:20200225T123000Z
DESCRIPTION:Angus Netball Tournament
LOCATION:Grange
CLASS:PUBLIC
END:VEVENT
END:VCALENDAR
