BEGIN:VCALENDAR
PRODID:-//AT Content Types//AT Event//EN
VERSION:1.0
BEGIN:VEVENT
DTSTART:20191101T100000Z
DTEND:20191101T123000Z
DCREATED:20190920T104315Z
UID:ATEvent-7ab2e0e57c754213b7ecfed47cb29d34
SEQUENCE:0
LAST-MODIFIED:20190920T104319Z
SUMMARY:Angus Football Tournament
DESCRIPTION:Angus Football Tournament
LOCATION:Pitskelly
PRIORITY:3
TRANSP:0
END:VEVENT
END:VCALENDAR
