BEGIN:VCALENDAR
PRODID:-//AT Content Types//AT Event//EN
VERSION:1.0
BEGIN:VEVENT
DTSTART:20200513T090000Z
DTEND:20200513T113000Z
DCREATED:20190920T104448Z
UID:ATEvent-430e37a03b274d4db23030b9335b317b
SEQUENCE:0
LAST-MODIFIED:20190920T104451Z
SUMMARY:Angus Football Tournament
DESCRIPTION:Angus Football Tournament
LOCATION:Pitskelly
PRIORITY:3
TRANSP:0
END:VEVENT
END:VCALENDAR
