BEGIN:VCALENDAR
PRODID:-//AT Content Types//AT Event//EN
VERSION:2.0
METHOD:PUBLISH
BEGIN:VEVENT
DTSTAMP:20260419T190244Z
CREATED:20190920T104406Z
UID:ATEvent-7bdca8e96d50427ea747c5778edcd167
LAST-MODIFIED:20190920T104408Z
SUMMARY:Angus Football Tournament
DTSTART:20200320T100000Z
DTEND:20200320T123000Z
DESCRIPTION:Angus Football Tournament
CLASS:PUBLIC
END:VEVENT
END:VCALENDAR
